BEGIN:VCALENDAR
VERSION:2.0
METHOD:PUBLISH
X-WR-CALNAME;VALUE=TEXT:Events Calendar
PRODID:-//Drupal iCal API//EN
BEGIN:VEVENT
SUMMARY:Humanitarian Free and Open Source Software - The Benefits of &quot;Doing Good&quot; - DLS Talk by Heidi Ellis, Western New England University
DTSTART:20161201T233000Z
DTEND:20161202T010000Z
LOCATION:Hugh Dempster Building (6245 Agronomy Rd), Room 110
URL;VALUE=URI:https://www.cs.ubc.ca/event/2016/12/humanitarian-free-and-open-source-software-benefits-doing-good-dls-talk-heidi-ellis-we
END:VEVENT
END:VCALENDAR
