BEGIN:VCALENDAR
VERSION:2.0
METHOD:PUBLISH
X-WR-CALNAME;VALUE=TEXT:Events Calendar
PRODID:-//Drupal iCal API//EN
BEGIN:VEVENT
SUMMARY:SAP Code Slam (global coding challenge)
DTSTART:20121013T160000Z
DTEND:20121014T190000Z
LOCATION:DMP 110
URL;VALUE=URI:https://www.cs.ubc.ca/event/2012/10/sap-code-slam-global-coding-challenge
END:VEVENT
END:VCALENDAR
