BEGIN:VCALENDAR
VERSION:2.0
METHOD:PUBLISH
X-WR-CALNAME;VALUE=TEXT:Events Calendar
PRODID:-//Drupal iCal API//EN
BEGIN:VEVENT
SUMMARY:Spring Convocation for Computer Science Students
DTSTART:20110530T153000Z
DTEND:20110530T170000Z
LOCATION:Chan Centre
URL;VALUE=URI:https://www.cs.ubc.ca/event/2011/05/spring-convocation-computer-science-students
END:VEVENT
END:VCALENDAR
