BEGIN:VCALENDAR
VERSION:2.0
METHOD:PUBLISH
X-WR-CALNAME;VALUE=TEXT:Events Calendar
PRODID:-//Drupal iCal API//EN
BEGIN:VEVENT
SUMMARY:Masters Thesis Presentation - Aditya Aravind Chinchure
DTSTART:20240416T210000Z
DTEND:20240416T220000Z
URL;VALUE=URI:https://www.cs.ubc.ca/event/2024/04/masters-thesis-presentation-aditya-aravind-chinchure
END:VEVENT
END:VCALENDAR
